BEGIN:VCALENDAR
VERSION:2.0
PRODID:-//bonasoft.pl//NONSGML Tydzień Bibliotek. Finał konkursu czytelniczego ZACZYTANY NAUCZYCIEL W BIBLIOTECE PEDAGOGICZNEJ//EN
CALSCALE:GREGORIAN
METHOD:PUBLISH
BEGIN:VEVENT
UID:20260424T154058-1680315341uid
DISTAMP:20260424T154058
DTSTART:20260514T140000Z
DTEND:20260514T150000Z
LOCATION:Pedagogiczna Biblioteka Wojewódzka im. KEN w Warszawie Filia w Żyrardowie ul. Waryńskiego 1 (wejście od ulicy Ossowskiego).
SUMMARY:Tydzień Bibliotek. Finał konkursu czytelniczego ZACZYTANY NAUCZYCIEL W BIBLIOTECE PEDAGOGICZNEJ
DESCRIPTION:Rozstrzygnięcie IV edycji konkursu czytelniczego: ZACZYTANY NAUCZYCIEL W BIBLIOTECE PEDAGOGICZNEJ.
END:VEVENT
END:VCALENDAR
