BEGIN:VCALENDAR
VERSION:2.0
PRODID:-//bonasoft.pl//NONSGML Tydzień Bibliotek. Zajęcia edukacyjne z elementami biblioterapii dla przedszkoli: Jak działa biblioteka?//EN
CALSCALE:GREGORIAN
METHOD:PUBLISH
BEGIN:VEVENT
UID:20260424T151202-1807371605uid
DISTAMP:20260424T151202
DTSTART:20260508T080000Z
DTEND:20260508T100000Z
LOCATION:Pedagogiczna Biblioteka Wojewódzka im. KEN w Warszawie Filia w Żyrardowie ul. Waryńskiego 1 (wejście od ulicy Ossowskiego).
SUMMARY:Tydzień Bibliotek. Zajęcia edukacyjne z elementami biblioterapii dla przedszkoli: Jak działa biblioteka?
DESCRIPTION:Tydzień bibliotek. Zajęcia edukacyjne dla przedszkoli: Jak działa biblioteka?
END:VEVENT
END:VCALENDAR
