BEGIN:VCALENDAR
VERSION:2.0
PRODID:-//bonasoft.pl//NONSGML Udział Biblioteki w Ogólnopolskiej Nocy Muzeów w Żyrardowie//EN
CALSCALE:GREGORIAN
METHOD:PUBLISH
BEGIN:VEVENT
UID:20260424T154144-1522251669uid
DISTAMP:20260424T154144
DTSTART:20260516T130000Z
DTEND:20260516T160000Z
LOCATION:Pedagogiczna Biblioteka Wojewódzka im. KEN w Warszawie Filia w Żyrardowie ul. Waryńskiego 1 (wejście od ulicy Ossowskiego).
SUMMARY:Udział Biblioteki w Ogólnopolskiej Nocy Muzeów w Żyrardowie
DESCRIPTION:
END:VEVENT
END:VCALENDAR
