BEGIN:VCALENDAR
VERSION:2.0
PRODID:-//bonasoft.pl//NONSGML Tydzień Bibliotek. Złota Rybka i nie tylko – warsztaty stacjonarne//EN
CALSCALE:GREGORIAN
METHOD:PUBLISH
BEGIN:VEVENT
UID:20260424T154048-405910484uid
DISTAMP:20260424T154048
DTSTART:20260506T080000Z
DTEND:20260506T110000Z
LOCATION:Czytelnia Biblioteki Pedagogicznej w Żyrardowie ul. Waryńskiego 1 (wejście od ul. Ossowskiego)
SUMMARY:Tydzień Bibliotek. Złota Rybka i nie tylko – warsztaty stacjonarne
DESCRIPTION:
END:VEVENT
END:VCALENDAR
