BEGIN:VCALENDAR
VERSION:2.0
PRODID:-//bonasoft.pl//NONSGML Tydzień Bibliotek. Celebracja i edukacja : gra zadaniowa zamiast akademii//EN
CALSCALE:GREGORIAN
METHOD:PUBLISH
BEGIN:VEVENT
UID:20260424T153705-1851970955uid
DISTAMP:20260424T153705
DTSTART:20260513T090000Z
DTEND:20260513T110000Z
LOCATION:Czytelnia Biblioteki Pedagogicznej w Żyrardowie ul. Waryńskiego 1 (wejście od ul. Ossowskiego)
SUMMARY:Tydzień Bibliotek. Celebracja i edukacja : gra zadaniowa zamiast akademii
DESCRIPTION:Spotkanie warsztatowe z Agatą Łankowską 
END:VEVENT
END:VCALENDAR
